BEGIN:VCALENDAR
VERSION:2.0
PRODID:-//goteborgskonstnarsklubb.se - ECPv6.15.20//NONSGML v1.0//EN
CALSCALE:GREGORIAN
METHOD:PUBLISH
X-ORIGINAL-URL:https://goteborgskonstnarsklubb.se
X-WR-CALDESC:Händelser för goteborgskonstnarsklubb.se
REFRESH-INTERVAL;VALUE=DURATION:PT1H
X-Robots-Tag:noindex
X-PUBLISHED-TTL:PT1H
BEGIN:VTIMEZONE
TZID:UTC
BEGIN:STANDARD
TZOFFSETFROM:+0000
TZOFFSETTO:+0000
TZNAME:UTC
DTSTART:20250101T000000
END:STANDARD
END:VTIMEZONE
BEGIN:VEVENT
DTSTART;TZID=UTC:20260325T183000
DTEND;TZID=UTC:20260325T210000
DTSTAMP:20260424T124525
CREATED:20260320T162528Z
LAST-MODIFIED:20260320T162528Z
UID:598-1774463400-1774472400@goteborgskonstnarsklubb.se
SUMMARY:Föreläsning Zdenka Kalisky om textilkonst
DESCRIPTION:Zdenka Kalisky föreläser om textilkonst. \nVarmt välkomna!
URL:https://goteborgskonstnarsklubb.se/event/forelasning-zdenka-kalisky-om-textilkonst/
LOCATION:Galleri Majnabbe\, Taubegatan 9\, Göteborg\, 41455\, Sverige
CATEGORIES:Föreläsning
ORGANIZER;CN="G%C3%B6teborgs Konstn%C3%A4rsklubb":MAILTO:info@goteborgskontnarsklubb.se
END:VEVENT
BEGIN:VEVENT
DTSTART;TZID=UTC:20260316T080000
DTEND;TZID=UTC:20260416T170000
DTSTAMP:20260424T124525
CREATED:20260316T110012Z
LAST-MODIFIED:20260316T110012Z
UID:595-1773648000-1776358800@goteborgskonstnarsklubb.se
SUMMARY:Är du intresserad av att jobba med konstinköp inom Göteborgs Stad?
DESCRIPTION:Intresseanmälan för uppdraget som konstkonsult är öppen en gång per år\, under våren. 2026 års ansökningsperiod är öppen till torsdag den 16 april. Lämna din intresseanmälan via formuläret som du hittar här.
URL:https://goteborgskonstnarsklubb.se/event/ar-du-intresserad-av-att-jobba-med-konstinkop-inom-goteborgs-stad/
END:VEVENT
BEGIN:VEVENT
DTSTART;TZID=UTC:20260126T100000
DTEND;TZID=UTC:20260420T123000
DTSTAMP:20260424T124525
CREATED:20251217T130758Z
LAST-MODIFIED:20251217T130758Z
UID:582-1769421600-1776688200@goteborgskonstnarsklubb.se
SUMMARY:Kroki våren 2026
DESCRIPTION:Måndagen den 26/1 startar krokivåren! \nModellen står 4 x 20 min. från kl 10.00 till\nca 12.30. Kaffe eller the\, samt kaka ingår. \nMedlemmar 40 kr \nIcke medlemmar 100 kr (i mån av plats) \nVårens modeller: \n26/1  Andreas Björkman\n2/2    Anna Nero\n9/2    Ralph Marting\n16/2  Johanna Essie Sjögren\n23/2  Jan-Olof Sandgren \n2/3    Malin Wahlstedt\n9/3    Michael Hellman\n16/3   Anna Nero\n23/3  Ralph Marting\n30/3  Malin Wahlstedt \n13/4   Johanna Essie Sjögren\n20/4  Jan-Olof Sandgren
URL:https://goteborgskonstnarsklubb.se/event/kroki-varen-2026/
LOCATION:Galleri Majnabbe\, Taubegatan 9\, Göteborg\, 41455\, Sverige
CATEGORIES:Krokiteckning
ORGANIZER;CN="G%C3%B6teborgs Konstn%C3%A4rsklubb":MAILTO:info@goteborgskontnarsklubb.se
END:VEVENT
END:VCALENDAR