BEGIN:VCALENDAR
VERSION:2.0
PRODID:-//goteborgskonstnarsklubb.se - ECPv6.15.20//NONSGML v1.0//EN
CALSCALE:GREGORIAN
METHOD:PUBLISH
X-ORIGINAL-URL:https://goteborgskonstnarsklubb.se
X-WR-CALDESC:Händelser för goteborgskonstnarsklubb.se
REFRESH-INTERVAL;VALUE=DURATION:PT1H
X-Robots-Tag:noindex
X-PUBLISHED-TTL:PT1H
BEGIN:VTIMEZONE
TZID:UTC
BEGIN:STANDARD
TZOFFSETFROM:+0000
TZOFFSETTO:+0000
TZNAME:UTC
DTSTART:20250101T000000
END:STANDARD
END:VTIMEZONE
BEGIN:VEVENT
DTSTART;TZID=UTC:20260116T080000
DTEND;TZID=UTC:20260501T170000
DTSTAMP:20260424T153709
CREATED:20260116T135323Z
LAST-MODIFIED:20260116T135323Z
UID:587-1768550400-1777654800@goteborgskonstnarsklubb.se
SUMMARY:Inbjudan till Grafiktriennal i Toulouse 2027
DESCRIPTION:Här är en inbjudan till grafiktriennalen i Toulouse 2027. Ansökningsblankett finns i länken längst ner. Sista ansökan 1/5 2026. \nDear Artists and artists’ friends\,\nWe are pleased to invite you to the European Contemporary Print Triennial which  will take place in Toulouse\, next October.\nFor this 6th edition 2026\, the invited country is Sweden.\nESTAMPADURA is a printmakers’ association based in Toulouse\, France. Its goal is to present contemporary European printmaking to French public\nand promote meetings and exchanges between artists from the region and the rest of Europe.\nThere are no fees\, and no theme\, but a selection will be made.\nYou will find details in the application form here enclosed.\nYou can also have more information on our website https://estampadura.com/triennale/\nWe wish you a good and creative year\, and look forward to discover your work. \nCharles GIULIOLI\, for Estampadura \n  \napplication form 2026
URL:https://goteborgskonstnarsklubb.se/event/inbjudan-till-grafiktriennal-i-toulouse-2027/
END:VEVENT
BEGIN:VEVENT
DTSTART;TZID=UTC:20260126T100000
DTEND;TZID=UTC:20260420T123000
DTSTAMP:20260424T153709
CREATED:20251217T130758Z
LAST-MODIFIED:20251217T130758Z
UID:582-1769421600-1776688200@goteborgskonstnarsklubb.se
SUMMARY:Kroki våren 2026
DESCRIPTION:Måndagen den 26/1 startar krokivåren! \nModellen står 4 x 20 min. från kl 10.00 till\nca 12.30. Kaffe eller the\, samt kaka ingår. \nMedlemmar 40 kr \nIcke medlemmar 100 kr (i mån av plats) \nVårens modeller: \n26/1  Andreas Björkman\n2/2    Anna Nero\n9/2    Ralph Marting\n16/2  Johanna Essie Sjögren\n23/2  Jan-Olof Sandgren \n2/3    Malin Wahlstedt\n9/3    Michael Hellman\n16/3   Anna Nero\n23/3  Ralph Marting\n30/3  Malin Wahlstedt \n13/4   Johanna Essie Sjögren\n20/4  Jan-Olof Sandgren
URL:https://goteborgskonstnarsklubb.se/event/kroki-varen-2026/
LOCATION:Galleri Majnabbe\, Taubegatan 9\, Göteborg\, 41455\, Sverige
CATEGORIES:Krokiteckning
ORGANIZER;CN="G%C3%B6teborgs Konstn%C3%A4rsklubb":MAILTO:info@goteborgskontnarsklubb.se
END:VEVENT
BEGIN:VEVENT
DTSTART;TZID=UTC:20260316T080000
DTEND;TZID=UTC:20260416T170000
DTSTAMP:20260424T153709
CREATED:20260316T110012Z
LAST-MODIFIED:20260316T110012Z
UID:595-1773648000-1776358800@goteborgskonstnarsklubb.se
SUMMARY:Är du intresserad av att jobba med konstinköp inom Göteborgs Stad?
DESCRIPTION:Intresseanmälan för uppdraget som konstkonsult är öppen en gång per år\, under våren. 2026 års ansökningsperiod är öppen till torsdag den 16 april. Lämna din intresseanmälan via formuläret som du hittar här.
URL:https://goteborgskonstnarsklubb.se/event/ar-du-intresserad-av-att-jobba-med-konstinkop-inom-goteborgs-stad/
END:VEVENT
BEGIN:VEVENT
DTSTART;VALUE=DATE:20260430
DTEND;VALUE=DATE:20260504
DTSTAMP:20260424T153709
CREATED:20250910T120150Z
LAST-MODIFIED:20250910T120240Z
UID:545-1777507200-1777852799@goteborgskonstnarsklubb.se
SUMMARY:Vårresa: Gallery Weekend\, Berlin
DESCRIPTION:Våren 2026 går resan till Berlin 30 april-3 maj. \nDär vi upptäcker stadens historia och kultur\, och under vårt besök pågår Gallery Weekend. \nI resan ingår bussresa samt 3 övernattningar på hotell Relaxa\, med del i dubbelrum.\nEnkelrum: tillägg på 975 kr  \nFrukost\, en middag dag 3\, och stadsrundtur ingår i priset. \n  \nKostnad: \nMedlem 2000 kr \nStödmedlem 3000 kr \nIcke-medlem i mån av plats 3975 kr \nAnmälan bindande genom att betala in 500 kr till Göteborgs konstnärsklubb \nAnmälan görs till resegruppen på galleriet@gallerimajnabbe.se och då får du mer information.
URL:https://goteborgskonstnarsklubb.se/event/gallery-weekend-berlin/
CATEGORIES:Resor
ORGANIZER;CN="G%C3%B6teborgs Konstn%C3%A4rsklubb":MAILTO:info@goteborgskontnarsklubb.se
END:VEVENT
BEGIN:VEVENT
DTSTART;TZID=UTC:20260515T183000
DTEND;TZID=UTC:20260515T233000
DTSTAMP:20260424T153709
CREATED:20251207T120114Z
LAST-MODIFIED:20251207T121435Z
UID:564-1778869800-1778887800@goteborgskonstnarsklubb.se
SUMMARY:Vårfest!
DESCRIPTION:Göteborgs Konstnärsklubb bjuder in till vårfest! \nKnytkalas gäller som vanligt. \nVarmt välkomna!
URL:https://goteborgskonstnarsklubb.se/event/varfest/
LOCATION:Galleri Majnabbe\, Taubegatan 9\, Göteborg\, 41455\, Sverige
CATEGORIES:Fest
ORGANIZER;CN="G%C3%B6teborgs Konstn%C3%A4rsklubb":MAILTO:info@goteborgskontnarsklubb.se
END:VEVENT
BEGIN:VEVENT
DTSTART;TZID=UTC:20260516T120000
DTEND;TZID=UTC:20260531T160000
DTSTAMP:20260424T153709
CREATED:20251207T122247Z
LAST-MODIFIED:20260322T181253Z
UID:572-1778932800-1780243200@goteborgskonstnarsklubb.se
SUMMARY:Vårsalong
DESCRIPTION:Välkommen att  delta i Galleri Majnabbes årliga VÅRSALONG!  \nSalongen går av stapeln 16-31 maj 2026.\n\nAnmälan sker genom att mejla  till:\ngalleriet@gallerimajnabbe.se    Anmäl ditt intresse senast 1 maj.\n \nI år har galleristyrelsen beslutat att återgå till den gamla modellen med anmälningsavgift och en arbetsgrupp som sköter hängning och vaktning.\n Anmälningsavgiften är 150 kronor .\nDenna avgift betalas in vid anmälan på \nPlusgiro 428742-1 eller SWISH 1235473426.\n \nGalleriet tar 30% i provision. \nMer information om inlämningsdatum  fås efter anmälan.\n 
URL:https://goteborgskonstnarsklubb.se/event/varsalong/
LOCATION:Galleri Majnabbe\, Taubegatan 9\, Göteborg\, 41455\, Sverige
CATEGORIES:Vårsalong
ORGANIZER;CN="G%C3%B6teborgs Konstn%C3%A4rsklubb":MAILTO:info@goteborgskontnarsklubb.se
END:VEVENT
END:VCALENDAR